BEGIN:VCALENDAR
VERSION:2.0
PRODID:-//Ilustre Colegio de Abogados de Cartagena - ECPv6.15.20//NONSGML v1.0//EN
CALSCALE:GREGORIAN
METHOD:PUBLISH
X-ORIGINAL-URL:https://www.icacartagena.com
X-WR-CALDESC:Eventos para Ilustre Colegio de Abogados de Cartagena
REFRESH-INTERVAL;VALUE=DURATION:PT1H
X-Robots-Tag:noindex
X-PUBLISHED-TTL:PT1H
BEGIN:VTIMEZONE
TZID:Europe/Madrid
BEGIN:DAYLIGHT
TZOFFSETFROM:+0100
TZOFFSETTO:+0200
TZNAME:CEST
DTSTART:20180325T010000
END:DAYLIGHT
BEGIN:STANDARD
TZOFFSETFROM:+0200
TZOFFSETTO:+0100
TZNAME:CET
DTSTART:20181028T010000
END:STANDARD
BEGIN:DAYLIGHT
TZOFFSETFROM:+0100
TZOFFSETTO:+0200
TZNAME:CEST
DTSTART:20190331T010000
END:DAYLIGHT
BEGIN:STANDARD
TZOFFSETFROM:+0200
TZOFFSETTO:+0100
TZNAME:CET
DTSTART:20191027T010000
END:STANDARD
BEGIN:DAYLIGHT
TZOFFSETFROM:+0100
TZOFFSETTO:+0200
TZNAME:CEST
DTSTART:20200329T010000
END:DAYLIGHT
BEGIN:STANDARD
TZOFFSETFROM:+0200
TZOFFSETTO:+0100
TZNAME:CET
DTSTART:20201025T010000
END:STANDARD
BEGIN:DAYLIGHT
TZOFFSETFROM:+0100
TZOFFSETTO:+0200
TZNAME:CEST
DTSTART:20210328T010000
END:DAYLIGHT
BEGIN:STANDARD
TZOFFSETFROM:+0200
TZOFFSETTO:+0100
TZNAME:CET
DTSTART:20211031T010000
END:STANDARD
BEGIN:DAYLIGHT
TZOFFSETFROM:+0100
TZOFFSETTO:+0200
TZNAME:CEST
DTSTART:20220327T010000
END:DAYLIGHT
BEGIN:STANDARD
TZOFFSETFROM:+0200
TZOFFSETTO:+0100
TZNAME:CET
DTSTART:20221030T010000
END:STANDARD
BEGIN:DAYLIGHT
TZOFFSETFROM:+0100
TZOFFSETTO:+0200
TZNAME:CEST
DTSTART:20230326T010000
END:DAYLIGHT
BEGIN:STANDARD
TZOFFSETFROM:+0200
TZOFFSETTO:+0100
TZNAME:CET
DTSTART:20231029T010000
END:STANDARD
END:VTIMEZONE
BEGIN:VEVENT
DTSTART;TZID=Europe/Madrid:20220513T110000
DTEND;TZID=Europe/Madrid:20220513T170000
DTSTAMP:20260425T174034
CREATED:20220531T094433Z
LAST-MODIFIED:20220531T094436Z
UID:7172-1652439600-1652461200@www.icacartagena.com
SUMMARY:Comisión Turno de oficio
DESCRIPTION:
URL:https://www.icacartagena.com/evento/comision-turno-de-oficio/
END:VEVENT
BEGIN:VEVENT
DTSTART;TZID=Europe/Madrid:20220504T090000
DTEND;TZID=Europe/Madrid:20220504T100000
DTSTAMP:20260425T174034
CREATED:20220503T101549Z
LAST-MODIFIED:20220503T101551Z
UID:6548-1651654800-1651658400@www.icacartagena.com
SUMMARY:Comisión Igualdad
DESCRIPTION:
URL:https://www.icacartagena.com/evento/comision-igualdad/
CATEGORIES:Agenda Institucional
END:VEVENT
BEGIN:VEVENT
DTSTART;TZID=Europe/Madrid:20220418T170000
DTEND;TZID=Europe/Madrid:20220418T190000
DTSTAMP:20260425T174034
CREATED:20220407T081638Z
LAST-MODIFIED:20220429T232336Z
UID:6118-1650301200-1650308400@www.icacartagena.com
SUMMARY:Actuación letrada: detección y defensa de víctimas de trata con fines de explotación sexual.
DESCRIPTION:#AulaDDHH\n\n\n\n\n\n17.00 – 17.30 Presentación de la jornada \n\n\n\nÁngel Méndez Bernal\, Decano del Colegio de Abogadosde CartagenaIsabel Franco Sánchez\, Vicepresidenta de la C.A.R.M. yConsejera de la Mujer\, Igualdad\, LGTBI\, Familias y PolíticaSocialSilvia Benito Reques\, Fiscal delegada de extranjería de laRegión de MurciaRepresentante\, Fundación de la Abogacía Española \n\n\n\n17.30 – 18.30 Módulo teórico \n\n\n\nVanessa Casado\, jurista experta en trata de mujeres confines de explotación sexual \n\n\n\n18.30 – 19.00 Coloquio \n\n\n\nSilvia Benito Reques\, fiscal delegada de extranjería de laRegión de MurciaVanessa Casado\, jurista experta en trata de mujeres confines de explotación sexual
URL:https://www.icacartagena.com/evento/actuacion-letrada-deteccion/
CATEGORIES:Agenda Colegial
ATTACH;FMTTYPE=image/png:https://www.icacartagena.com/wp-content/uploads/2022/04/18.04.22-GARTAGENA_Fb-Post-foto-1200-x-1200.png
END:VEVENT
BEGIN:VEVENT
DTSTART;TZID=Europe/Madrid:20220407T160000
DTEND;TZID=Europe/Madrid:20220407T180000
DTSTAMP:20260425T174034
CREATED:20220324T182316Z
LAST-MODIFIED:20220429T232336Z
UID:6059-1649347200-1649354400@www.icacartagena.com
SUMMARY:Normas de cumplimiento (compliance) en Organismos Internacionales: Banco Mundial y Banco Interamericano de Desarrollo
DESCRIPTION:Normas de cumplimiento (compliance) en Organismos Internacionales: Banco Mundial y Banco Interamericano de DesarrolloLugar: Madrid · Inicio: 07/04/2022 · Final: 07/04/2022 · Duración: A las 16:00 hModalidad: online ·Plazas: Ilimitadas Online · Inscripción: inscripción abiertaOrganiza: Consejo General de la Abogacía Española
URL:https://www.icacartagena.com/evento/normas-de-cumplimiento-compliance-en-organismos-internacionales-banco-mundial-y-banco-interamericano-de-desarrollo/
CATEGORIES:Agenda Colegial
END:VEVENT
BEGIN:VEVENT
DTSTART;TZID=Europe/Madrid:20220404T163000
DTEND;TZID=Europe/Madrid:20220404T180000
DTSTAMP:20260425T174034
CREATED:20220329T095017Z
LAST-MODIFIED:20220429T232336Z
UID:6078-1649089800-1649095200@www.icacartagena.com
SUMMARY:“NOVEDADES LEGALES Y JURISPRUDENCIALES DURANTE LOS AÑOS 2020 y 2021 RELATIVAS AL DELITO DE IMPAGO DE PENSIONES”
DESCRIPTION:Dentro de las actividades de formación del Consejo General de la Abogacía Española\, y en el marco de las denominadas “Conferencias de los lunes”\, el próximo lunes 4 de abril de 16\,30 a 18\,00 horas\,  tendrá lugar la Conferencia sobre “Novedades legales y jurisprudenciales durante los años 2020 y 2021 relativas al delito del impago de pensiones”\, en la que intervendrá como ponente D. Sergio Herrero Álvarez\, abogado. \n\n\n\n                                  A la Conferencia se podrá asistir de modo presencial y on line previa inscripción y de forma gratuita a través del siguiente enlace: \n\n\n\nhttps://www.formacionabogacia.es/
URL:https://www.icacartagena.com/evento/novedades-legales-y-jurisprudenciales-durante-los-anos-2020-y-2021-relativas-al-delito-de-impago-de-pensiones/
CATEGORIES:Agenda Colegial
END:VEVENT
BEGIN:VEVENT
DTSTART;TZID=Europe/Madrid:20220331T170000
DTEND;TZID=Europe/Madrid:20220331T170000
DTSTAMP:20260425T174034
CREATED:20220324T182557Z
LAST-MODIFIED:20220429T232336Z
UID:6061-1648746000-1648746000@www.icacartagena.com
SUMMARY:TALLER JURÍDICO CIVIL – MERCANTIL POR UCRANIA
DESCRIPTION:TALLER JURÍDICO CIVIL – MERCANTIL POR UCRANIA \n\n\n\n31 de marzo de 2022 \n\n\n\nOrganizan: APM de la Región de Murcia e Ilustre Colegio de Abogados de Cartagena. \n\n\n\nObjetivo: impartir un curso jurídico donde lo recaudado – las matrículas y fila cero- será entregado a la Cruz Roja para que se destine a la ayuda a los refugiados de Ucrania.Serán cuatro Magistrados de la APM quienes intervendrán\, de modo altruista\, como ponentes. El Colegio de Abogados e Cartagena se encargará de la recaudación de las matrículas y fila cero\, facilitará sus instalaciones y medios para dicho curso\, así como a dos moderadores.A beneficio de la campaña de ayuda a los refugiados de Ucrania promovida por la Cruz Roja. \n\n\n\nDestinarios: Abogados\, alumnos del master de acceso a la abogacía UMU\, alumnos facultad de Derecho\, Procuradores\, Graduados Sociales\, Economistas y Titulados Mercantiles\, Carrera Judicial y Fiscal\, Cuerpo de Letrados de la administración de Justicia\, etc \n\n\n\nMatrícula: 25 euros Profesionales de toda España. 10 euros alumnos de master o facultades de Derecho de toda España. \n\n\n\nInscripción: www.icacartagena/tallersolidarioucrania \n\n\n\nFila cero ES47 0081 7361 7800 0109 5517Modalidad: presencial en sede Colegio Abogados de Cartagena / streaming – zoom \n\n\n\nPROGRAMA \n\n\n\n17.00 PresentaciónDecano del Colegio de Abogados\, Presidente Comarcal de Cruz Roja\, un miembro de la Junta de la Sección Territorial de la APM. \n\n\n\n17.15 Mesa Civil: Condiciones generales de la contrataciónModerador: Un miembro del Colegio de Abogados de Cartagena. \n\n\n\nPonente 1: José Manuel Nicolás Manzanares\, Magistrado AP Murcia\, sec. 5ª:Cláusulas abusivas y oposición a la ejecución. En especial a la ejecución hipotecaria. Criterios. \n\n\n\nPonente 2: Fernando Madrid Rodríguez\, Magistrado JPI nº 5: Aspectos procesales del crédito revolving. \n\n\n\n18.15 Mesa Mercantil: Concursal \n\n\n\nModerador: Un miembro del Colegio de Abogados de Cartagena. \n\n\n\nPonente 1: Rafael Fuentes Devesa\, Magistrado AP Murcia\, sec.4ª: extinción de sociedades con activos sin liquidar. \n\n\n\nPonente 2: Beatriz Ballesteros Palazón\, Magistrada AP Valencia\, sec. 9ª: el crédito público y el beneficio de exoneración del pasivo insatisfecho. \n\n\n\n19.15 Clausura
URL:https://www.icacartagena.com/evento/taller-juridico-civil-mercantil-por-ucrania/
CATEGORIES:Agenda Colegial
END:VEVENT
BEGIN:VEVENT
DTSTART;TZID=Europe/Madrid:20220328T163000
DTEND;TZID=Europe/Madrid:20220328T180000
DTSTAMP:20260425T174034
CREATED:20220324T181936Z
LAST-MODIFIED:20220429T232336Z
UID:6055-1648485000-1648490400@www.icacartagena.com
SUMMARY:“LA LEY DE SEGUNDA OPORTUNIDAD”
DESCRIPTION:Dentro de las actividades de formación del Consejo General de la Abogacía Española\, y en el marco de las denominadas “Conferencias de los lunes”\, el próximo lunes 28 de marzo de 16\,30 a 18\,00 horas\,  tendrá lugar la Conferencia sobre “La Ley de Segunda oportunidad”\, en la que intervendrán como ponentes Doña Yvonne Pavía\, abogada y D. Martí Batllori\, abogado. \n\n\n\n                                  A la Conferencia se podrá asistir de modo presencial y on line previa inscripción y de forma gratuita a través del siguiente enlace: \n\n\n\nhttps://www.formacionabogacia.es/
URL:https://www.icacartagena.com/evento/la-ley-de-segunda-oportunidad/
CATEGORIES:Agenda Colegial
END:VEVENT
BEGIN:VEVENT
DTSTART;TZID=Europe/Madrid:20190530T193000
DTEND;TZID=Europe/Madrid:20190530T203000
DTSTAMP:20260425T174034
CREATED:20190528T075335Z
LAST-MODIFIED:20220429T232336Z
UID:2335-1559244600-1559248200@www.icacartagena.com
SUMMARY:CAFÉ JURÍDICO
DESCRIPTION:Cumplimiento Corporativo y Responsabilidad Penal de la Persona Jurídica \n\n\n\nPonente: D. Andrés Ayala Sánchez. Letrado del ICA Cartagena\, experto en la materia.
URL:https://www.icacartagena.com/evento/cafe-juridico/
LOCATION:CaféLab\, Calle Carmen Conde\, 2\, Cartagena\, España
CATEGORIES:Agenda Colegial
END:VEVENT
END:VCALENDAR